BEGIN:VCALENDAR
VERSION:2.0
PRODID:-//Yoga Teachers Fellowship - ECPv6.15.20//NONSGML v1.0//EN
CALSCALE:GREGORIAN
METHOD:PUBLISH
X-WR-CALNAME:Yoga Teachers Fellowship
X-ORIGINAL-URL:https://www.ytf.org.za
X-WR-CALDESC:Events for Yoga Teachers Fellowship
REFRESH-INTERVAL;VALUE=DURATION:PT1H
X-Robots-Tag:noindex
X-PUBLISHED-TTL:PT1H
BEGIN:VTIMEZONE
TZID:Africa/Johannesburg
BEGIN:STANDARD
TZOFFSETFROM:+0200
TZOFFSETTO:+0200
TZNAME:SAST
DTSTART:20250101T000000
END:STANDARD
END:VTIMEZONE
BEGIN:VEVENT
DTSTART;TZID=Africa/Johannesburg:20260427T090000
DTEND;TZID=Africa/Johannesburg:20260427T100000
DTSTAMP:20260424T164515
CREATED:20260424T101942Z
LAST-MODIFIED:20260424T101942Z
UID:24884-1777280400-1777284000@www.ytf.org.za
SUMMARY:Freedom Day - Nia Dance Jam
DESCRIPTION:
URL:https://www.ytf.org.za/event/freedom-day-nia-dance-jam/
LOCATION:Studio Kairos\, Dunkeld Bowling Club\, 15 Hume Road\, Dunkeld West\, Gauteng\, South Africa
CATEGORIES:Workshops
ATTACH;FMTTYPE=image/jpeg:https://www.ytf.org.za/wp-content/uploads/2026/04/nia-dance.jpg
ORGANIZER;CN="Susan Sloan":MAILTO:info@niagp.co.za
END:VEVENT
END:VCALENDAR