BEGIN:VCALENDAR
VERSION:2.0
PRODID:-//Yoga Teachers Fellowship - ECPv6.15.20//NONSGML v1.0//EN
CALSCALE:GREGORIAN
METHOD:PUBLISH
X-WR-CALNAME:Yoga Teachers Fellowship
X-ORIGINAL-URL:https://www.ytf.org.za
X-WR-CALDESC:Events for Yoga Teachers Fellowship
REFRESH-INTERVAL;VALUE=DURATION:PT1H
X-Robots-Tag:noindex
X-PUBLISHED-TTL:PT1H
BEGIN:VTIMEZONE
TZID:Africa/Johannesburg
BEGIN:STANDARD
TZOFFSETFROM:+0200
TZOFFSETTO:+0200
TZNAME:SAST
DTSTART:20250101T000000
END:STANDARD
END:VTIMEZONE
BEGIN:VEVENT
DTSTART;TZID=Africa/Johannesburg:20260314T090000
DTEND;TZID=Africa/Johannesburg:20260314T143000
DTSTAMP:20260419T141441
CREATED:20260211T151948Z
LAST-MODIFIED:20260311T144326Z
UID:20421-1773478800-1773498600@www.ytf.org.za
SUMMARY:Classical YYI Summer Mini Retreat
DESCRIPTION:
URL:https://www.ytf.org.za/event/classical-yyi-summer-mini-retreat/
LOCATION:Westville\, KZN\, South Africa
CATEGORIES:Retreats
ATTACH;FMTTYPE=image/jpeg:https://www.ytf.org.za/wp-content/uploads/2026/02/yyi.jpg
END:VEVENT
END:VCALENDAR