BEGIN:VCALENDAR
VERSION:2.0
PRODID:-//Yoga Teachers Fellowship - ECPv6.15.20//NONSGML v1.0//EN
CALSCALE:GREGORIAN
METHOD:PUBLISH
X-WR-CALNAME:Yoga Teachers Fellowship
X-ORIGINAL-URL:https://www.ytf.org.za
X-WR-CALDESC:Events for Yoga Teachers Fellowship
REFRESH-INTERVAL;VALUE=DURATION:PT1H
X-Robots-Tag:noindex
X-PUBLISHED-TTL:PT1H
BEGIN:VTIMEZONE
TZID:Africa/Johannesburg
BEGIN:STANDARD
TZOFFSETFROM:+0200
TZOFFSETTO:+0200
TZNAME:SAST
DTSTART:20250101T000000
END:STANDARD
END:VTIMEZONE
BEGIN:VEVENT
DTSTART;TZID=Africa/Johannesburg:20260509T163000
DTEND;TZID=Africa/Johannesburg:20260509T173000
DTSTAMP:20260424T183320
CREATED:20260418T192837Z
LAST-MODIFIED:20260418T192837Z
UID:24878-1778344200-1778347800@www.ytf.org.za
SUMMARY:Chakra Balancing Sound Bath and Yin Yoga
DESCRIPTION:Join Antonella and Jess for a deeply restorative yin yoga and sound bowl experience. Settle into a supported practice with crystal sound bowls\, gentle adjustments\, and chakra tuning — designed to calm your nervous system and help you fully switch off and reconnect.
URL:https://www.ytf.org.za/event/chakra-balancing-sound-bath-and-yin-yoga/
LOCATION:My Space Yoga Studio\, 23 Garden Road\, Orchards\, Gauteng\, South Africa
CATEGORIES:Workshops
ATTACH;FMTTYPE=image/jpeg:https://www.ytf.org.za/wp-content/uploads/2026/04/chakra.jpg
ORGANIZER;CN="Antonella Fimian":MAILTO:Fimianiantonella@gmail.com
END:VEVENT
END:VCALENDAR